BEGIN:VCALENDAR
VERSION:2.0
PRODID:-//IIM CSIC - ECPv6.15.20//NONSGML v1.0//EN
CALSCALE:GREGORIAN
METHOD:PUBLISH
X-WR-CALNAME:IIM CSIC
X-ORIGINAL-URL:https://iim.csic.es
X-WR-CALDESC:Eventos para IIM CSIC
REFRESH-INTERVAL;VALUE=DURATION:PT1H
X-Robots-Tag:noindex
X-PUBLISHED-TTL:PT1H
BEGIN:VTIMEZONE
TZID:Europe/Madrid
BEGIN:DAYLIGHT
TZOFFSETFROM:+0100
TZOFFSETTO:+0200
TZNAME:CEST
DTSTART:20250330T010000
END:DAYLIGHT
BEGIN:STANDARD
TZOFFSETFROM:+0200
TZOFFSETTO:+0100
TZNAME:CET
DTSTART:20251026T010000
END:STANDARD
BEGIN:DAYLIGHT
TZOFFSETFROM:+0100
TZOFFSETTO:+0200
TZNAME:CEST
DTSTART:20260329T010000
END:DAYLIGHT
BEGIN:STANDARD
TZOFFSETFROM:+0200
TZOFFSETTO:+0100
TZNAME:CET
DTSTART:20261025T010000
END:STANDARD
BEGIN:DAYLIGHT
TZOFFSETFROM:+0100
TZOFFSETTO:+0200
TZNAME:CEST
DTSTART:20270328T010000
END:DAYLIGHT
BEGIN:STANDARD
TZOFFSETFROM:+0200
TZOFFSETTO:+0100
TZNAME:CET
DTSTART:20271031T010000
END:STANDARD
END:VTIMEZONE
BEGIN:VEVENT
DTSTART;TZID=Europe/Madrid:20260424T080000
DTEND;TZID=Europe/Madrid:20260424T170000
DTSTAMP:20260423T222200
CREATED:20260423T113912Z
LAST-MODIFIED:20260423T113912Z
UID:24221-1777017600-1777050000@iim.csic.es
SUMMARY:Evento de prueba
DESCRIPTION:Evento de prueba
URL:https://iim.csic.es/event/evento-de-prueba/
LOCATION:rwerwe\, rwerwe\, rwerwe\, rwerw\, 36400\, Spain
ORGANIZER;CN="eeqweqwe":MAILTO:miguel@dixitalmedia.com
END:VEVENT
END:VCALENDAR